BEGIN:VCALENDAR
VERSION:2.0
PRODID:-//Autism Society Western New York - ECPv6.0.10//NONSGML v1.0//EN
CALSCALE:GREGORIAN
METHOD:PUBLISH
X-WR-CALNAME:Autism Society Western New York
X-ORIGINAL-URL:https://autismwny.org
X-WR-CALDESC:Events for Autism Society Western New York
REFRESH-INTERVAL;VALUE=DURATION:PT1H
X-Robots-Tag:noindex
X-PUBLISHED-TTL:PT1H
BEGIN:VTIMEZONE
TZID:America/New_York
BEGIN:DAYLIGHT
TZOFFSETFROM:-0500
TZOFFSETTO:-0400
TZNAME:EDT
DTSTART:20230312T070000
END:DAYLIGHT
BEGIN:STANDARD
TZOFFSETFROM:-0400
TZOFFSETTO:-0500
TZNAME:EST
DTSTART:20231105T060000
END:STANDARD
END:VTIMEZONE
BEGIN:VEVENT
DTSTART;TZID=America/New_York:20231210T100000
DTEND;TZID=America/New_York:20231210T111000
DTSTAMP:20260423T043758
CREATED:20231016T204010Z
LAST-MODIFIED:20231016T205103Z
UID:8329-1702202400-1702206600@autismwny.org
SUMMARY:YOU’RE A GOOD MAN\, CHARLIE BROWN - A Sensory-Friendly Performance at Theatre of Youth
DESCRIPTION:YOU’RE A GOOD MAN\, CHARLIE BROWN – Charlie Brown and the entire Peanuts gang explore life’s great questions as they play baseball\, struggle with homework\, sing songs\, swoon over their crushes\, and celebrate the joy of friendship. This musical if perfect for the whole family this holiday season and is\nfilled with charm\, wit\, & heart. \nTheatre of Youth (TOY) welcomes you to enjoy a performance in a sensory-friendly environment. Your children can sit where they are most comfortable and move around as they need\, all while enjoying the magic of live theatre.  These tickets are made available for children and families who desire a sensory-friendly environment. \nThis performance incorporates special modifications to accommodate audiences with sensory needs\, including\, changes to the performance:\n?Increased lighting in the seating area and house throughout the performance.\n?Lower sound levels.\n?Lowered seating capacities to allow for more space and movement between patrons. \n*Dates and titles subject to change. \nTicket Code to Order: SENSORY23 \nSENSORY-FRIENDLY PERFORMANCE on Sunday\, Dec. 10 at 10AM \nPurchase tickets here. \n 
URL:https://autismwny.org/event/youre-a-good-man-charlie-brown-a-sensory-friendly-performance-at-theatre-of-youth/
LOCATION:Theatre of Youth\, Buffalo\, New York
CATEGORIES:Sensory Friendly Event
END:VEVENT
END:VCALENDAR