BEGIN:VCALENDAR
VERSION:2.0
PRODID:-//Autism Society Western New York - ECPv6.0.10//NONSGML v1.0//EN
CALSCALE:GREGORIAN
METHOD:PUBLISH
X-ORIGINAL-URL:https://autismwny.org
X-WR-CALDESC:Events for Autism Society Western New York
REFRESH-INTERVAL;VALUE=DURATION:PT1H
X-Robots-Tag:noindex
X-PUBLISHED-TTL:PT1H
BEGIN:VTIMEZONE
TZID:America/New_York
BEGIN:DAYLIGHT
TZOFFSETFROM:-0500
TZOFFSETTO:-0400
TZNAME:EDT
DTSTART:20230312T070000
END:DAYLIGHT
BEGIN:STANDARD
TZOFFSETFROM:-0400
TZOFFSETTO:-0500
TZNAME:EST
DTSTART:20231105T060000
END:STANDARD
END:VTIMEZONE
BEGIN:VEVENT
DTSTART;TZID=America/New_York:20231103T170000
DTEND;TZID=America/New_York:20231103T200000
DTSTAMP:20260423T072224
CREATED:20231016T210405Z
LAST-MODIFIED:20231016T210651Z
UID:8336-1699030800-1699041600@autismwny.org
SUMMARY:SENSORY NIGHT:  DINOFEST - BUFFALO SCIENCE MUSEUM
DESCRIPTION:SENSORY NIGHT: DINOFEST \n\nFRIDAY\, NOVEMBER 3 @ 5:00 PM – 8:00 PM \n\n\n\nLimited exhibit sounds will provide a comfortable and fun evening of learning and exploration! Plus\, all guests may enjoy hands-on sensory activities featuring dinosaur movement\, dinosaur dig bins\, arts and crafts\, and so much more. \nA limited number of sensory backpacks including sound dampening headphones\, visual communication cards\, and fidgets will be available upon request\, along with dedicated quiet areas on the 1st and 4th floors and balcony. \nSpace is limited to the first 200 tickets reserved; pre-registration strongly encouraged. \nPurchase tickets here. \nAge: All ages \nCost: $15\, FREE for members.
URL:https://autismwny.org/event/sensory-night-dinofest-buffalo-science-museum/
LOCATION:Buffalo Science Museum\, 1020 Humboldt Parkway\, Buffalo\, NY\, 14211\, United States
CATEGORIES:Sensory Friendly Event
GEO:42.9056958;-78.8433075
X-APPLE-STRUCTURED-LOCATION;VALUE=URI;X-ADDRESS=Buffalo Science Museum 1020 Humboldt Parkway Buffalo NY 14211 United States;X-APPLE-RADIUS=500;X-TITLE=1020 Humboldt Parkway:geo:-78.8433075,42.9056958
END:VEVENT
END:VCALENDAR