BEGIN:VCALENDAR
VERSION:2.0
PRODID:-//Autism Society Western New York - ECPv6.0.10//NONSGML v1.0//EN
CALSCALE:GREGORIAN
METHOD:PUBLISH
X-WR-CALNAME:Autism Society Western New York
X-ORIGINAL-URL:https://autismwny.org
X-WR-CALDESC:Events for Autism Society Western New York
REFRESH-INTERVAL;VALUE=DURATION:PT1H
X-Robots-Tag:noindex
X-PUBLISHED-TTL:PT1H
BEGIN:VTIMEZONE
TZID:America/New_York
BEGIN:DAYLIGHT
TZOFFSETFROM:-0500
TZOFFSETTO:-0400
TZNAME:EDT
DTSTART:20230312T070000
END:DAYLIGHT
BEGIN:STANDARD
TZOFFSETFROM:-0400
TZOFFSETTO:-0500
TZNAME:EST
DTSTART:20231105T060000
END:STANDARD
END:VTIMEZONE
BEGIN:VEVENT
DTSTART;TZID=America/New_York:20231007T100000
DTEND;TZID=America/New_York:20231007T120000
DTSTAMP:20260423T072101
CREATED:20230921T161626Z
LAST-MODIFIED:20230921T161626Z
UID:8224-1696672800-1696680000@autismwny.org
SUMMARY:Sensory Friendly Family Film Series - Paw Patrol - October 7\, 2023
DESCRIPTION:Flix Stadium 10 in Lancaster\, NY – Sensory Friendly Family Film Series \nThe films will be presented with the theatre lights on and the sound lowered. Dipson Theatres\, Inc. acknowledges the needs of social engagement and environmental factors affecting people on the autism spectrum\, and hope that this family film series will create an entertainment venue for families to enjoy new releases in a presentation that will suit unique and special needs. \nPaw Patrol\nSaturday\, October 7 at 10:00 a.m.\nWhen a magical meteor crash lands in Adventure City\, it gives the PAW Patrol pups superpowers\, transforming them into The MIGHTY PUPS! For Skye\, the smallest member of the team\, her new powers are a dream come true. But things take a turn for the worse when the pups’ arch-rival Humdinger breaks out of jail and teams up with a mad scientist to steal the superpowers for the two villains. With the fate of Adventure City hanging in the balance\, the Mighty Pups have to stop the supervillains before it’s too late\, and Skye will need to learn that even the smallest pup can make the biggest difference.\n\nLocation: Flix Stadium 10\, 4901 Transit Road Lancaster\, NY 14043 \nhttp://flix10.dipsontheatres.com/ \nAdmission is $8.75 per person for both children and adults. \n\n\nContact: Larry Phillips\, General Manager\, Flix Stadium 10\, Larry@dipsontheatres.com\, 716-668-1888
URL:https://autismwny.org/event/sensory-friendly-family-film-series-paw-patrol-october-7-2023/
LOCATION:Flix Stadium 10\, 4901 Transit Road\, Lancaster\, NY\, 14043\, United States
CATEGORIES:Sensory Friendly Event
GEO:42.8781461;-78.6940368
X-APPLE-STRUCTURED-LOCATION;VALUE=URI;X-ADDRESS=Flix Stadium 10 4901 Transit Road Lancaster NY 14043 United States;X-APPLE-RADIUS=500;X-TITLE=4901 Transit Road:geo:-78.6940368,42.8781461
END:VEVENT
END:VCALENDAR