BEGIN:VCALENDAR
VERSION:2.0
PRODID:-//Autism Society Western New York - ECPv6.0.10//NONSGML v1.0//EN
CALSCALE:GREGORIAN
METHOD:PUBLISH
X-WR-CALNAME:Autism Society Western New York
X-ORIGINAL-URL:https://autismwny.org
X-WR-CALDESC:Events for Autism Society Western New York
REFRESH-INTERVAL;VALUE=DURATION:PT1H
X-Robots-Tag:noindex
X-PUBLISHED-TTL:PT1H
BEGIN:VTIMEZONE
TZID:America/New_York
BEGIN:DAYLIGHT
TZOFFSETFROM:-0500
TZOFFSETTO:-0400
TZNAME:EDT
DTSTART:20230312T070000
END:DAYLIGHT
BEGIN:STANDARD
TZOFFSETFROM:-0400
TZOFFSETTO:-0500
TZNAME:EST
DTSTART:20231105T060000
END:STANDARD
END:VTIMEZONE
BEGIN:VEVENT
DTSTART;TZID=America/New_York:20230603T100000
DTEND;TZID=America/New_York:20230603T120000
DTSTAMP:20260423T134129
CREATED:20230424T221813Z
LAST-MODIFIED:20230501T153229Z
UID:7826-1685786400-1685793600@autismwny.org
SUMMARY:Sensory Friendly Film Series:  The Little Mermaid movie
DESCRIPTION:Flix Stadium 10 sensory friendly family film series slated to run the first or second Saturday of every month at 10am. The films will be presented with the theatre lights on and the sound lowered. \nDipson Theatres\, Inc. acknowledges the needs of social engagement and environmental factors affecting people on the autism spectrum\, and hope that this family film series will create an entertainment venue for families to enjoy new releases in a presentation that will suit unique and special needs. \nThe Little Mermaid\nSaturday\, June 3 at 10:00 a.m.\nThe youngest of King Triton’s daughters\, and the most defiant\, Ariel longs to find out more about the world beyond the sea\, and while visiting the surface\, falls for the dashing Prince Eric. With mermaids forbidden to interact with humans\, Ariel makes a deal with the evil sea witch\, Ursula\, which gives her a chance to experience life on land\, but ultimately places her life – and her father’s crown – in jeopardy.\nRUN TIME: 120 minutes. \nAdmission is $8.75 per person for both children and adults. Flix will also offer a monthly raffle for attendees to win concession prizes and promotional movie gifts. \nPotential guests are encouraged to sign up for the theatre’s weekly email list which will announce each month’s film. Anyone interested can go to www.dipsontheatres.com and sign up for the weekly newsletter. \nContact: Larry Phillips\, General Manager\, Flix Stadium 10\, Larry@dipsontheatres.com\, 716-668-1888\n4901 Transit Road Lancaster\, NY 14043 \nFlix Stadium 10 – Sensory Friendly Family Film Series (dipsontheatres.com)
URL:https://autismwny.org/event/the-little-mermaid-movie/
LOCATION:Flix Stadium 10\, 4901 Transit Road\, Lancaster\, NY\, 14043\, United States
CATEGORIES:Sensory Friendly Event
GEO:42.8781461;-78.6940368
X-APPLE-STRUCTURED-LOCATION;VALUE=URI;X-ADDRESS=Flix Stadium 10 4901 Transit Road Lancaster NY 14043 United States;X-APPLE-RADIUS=500;X-TITLE=4901 Transit Road:geo:-78.6940368,42.8781461
END:VEVENT
END:VCALENDAR