BEGIN:VCALENDAR
VERSION:2.0
PRODID:-//Autism Society Western New York - ECPv6.0.10//NONSGML v1.0//EN
CALSCALE:GREGORIAN
METHOD:PUBLISH
X-ORIGINAL-URL:https://autismwny.org
X-WR-CALDESC:Events for Autism Society Western New York
REFRESH-INTERVAL;VALUE=DURATION:PT1H
X-Robots-Tag:noindex
X-PUBLISHED-TTL:PT1H
BEGIN:VTIMEZONE
TZID:America/New_York
BEGIN:DAYLIGHT
TZOFFSETFROM:-0500
TZOFFSETTO:-0400
TZNAME:EDT
DTSTART:20240310T070000
END:DAYLIGHT
BEGIN:STANDARD
TZOFFSETFROM:-0400
TZOFFSETTO:-0500
TZNAME:EST
DTSTART:20241103T060000
END:STANDARD
END:VTIMEZONE
BEGIN:VEVENT
DTSTART;TZID=America/New_York:20241207T100000
DTEND;TZID=America/New_York:20241207T120000
DTSTAMP:20260422T084649
CREATED:20241110T215209Z
LAST-MODIFIED:20241110T215209Z
UID:9400-1733565600-1733572800@autismwny.org
SUMMARY:Flix Stadium 10 Sensory Friendly Family Film – Moana 2
DESCRIPTION:Flix Stadium 10 sensory friendly family film series slated to run the first or second Saturday of every month at 10am. The films will be presented with the theatre lights on and the sound lowered. \nDipson Theatres\, Inc. acknowledges the needs of social engagement and environmental factors affecting people on the autism spectrum\, and hope that this family film series will create an entertainment venue for families to enjoy new releases in a presentation that will suit unique and special needs. \nMoana 2\nSaturday\, December 7\, 2024 at 10:00 a.m.\nPo is set to become the new spiritual leader of the Valley of Peace\, but before he can do that\, he must find a successor to become the new Dragon Warrior. He appears to find one in Zhen\, a fox with plenty of promising abilities but who doesn’t quite like the idea of Po training her. \nAdmission is $10.00 per person for both children and adults. Flix will also offer a monthly raffle for attendees to win concession prizes and promotional movie gifts. \nPotential guests are encouraged to sign up for the theatre’s weekly email list which will announce each month’s film. Anyone interested can go to www.dipsontheatres.com and sign up for the weekly newsletter. \nContact: Larry Phillips\, General Manager\, Flix Stadium 10\, Larry@dipsontheatres.com\, 716-668-1888\n4901 Transit Road Lancaster\, NY 14043 \nFlix Stadium 10 – Sensory Friendly Family Film Series (dipsontheatres.com)
URL:https://autismwny.org/event/flix-stadium-10-sensory-friendly-family-film-moana-2/
LOCATION:Flix Stadium 10\, 4901 Transit Road\, Lancaster\, NY\, 14043\, United States
CATEGORIES:Sensory Friendly Event
GEO:42.8781461;-78.6940368
X-APPLE-STRUCTURED-LOCATION;VALUE=URI;X-ADDRESS=Flix Stadium 10 4901 Transit Road Lancaster NY 14043 United States;X-APPLE-RADIUS=500;X-TITLE=4901 Transit Road:geo:-78.6940368,42.8781461
END:VEVENT
BEGIN:VEVENT
DTSTART;TZID=America/New_York:20241213T173000
DTEND;TZID=America/New_York:20241213T193000
DTSTAMP:20260422T084649
CREATED:20241110T221221Z
LAST-MODIFIED:20241110T221221Z
UID:9410-1734111000-1734118200@autismwny.org
SUMMARY:Au-Some Evenings at Explore & More – The Ralph C Wilson Jr. Children’s Museum
DESCRIPTION:Au-Some Evenings give children with autism and sensory processing needs\, their friends and family an opportunity to play and learn together in an understanding and supportive environment. \nIn addition to a fun night of play with access to the museum space and exhibits\, we have special programming for families! \nThe evening features themed Art Studio projects\, sensory exploration in our Tinkering Tank\, therapy animals from the SPCA and student volunteers from SUNY Buffalo State’s Exceptional Education program. \nParent outreach materials including links for social stories\, child development resources and play tips are always available. We even provide small giveaways or snacks in the lobby at the end of the night to help with the transition of leaving the museum. \n\n\n\n\n\nFree.  Registration Required.\n\n\nClick here to register
URL:https://autismwny.org/event/au-some-evenings-at-explore-more-the-ralph-c-wilson-jr-childrens-museum-3/
LOCATION:Explore & More – The Ralph C Wilson Jr. Children’s Museum\, 130 Main Street\, Buffalo\, NY\, 14202\, United States
CATEGORIES:Sensory Friendly Event
GEO:42.7600441;-78.6122951
X-APPLE-STRUCTURED-LOCATION;VALUE=URI;X-ADDRESS=Explore & More – The Ralph C Wilson Jr. Children’s Museum 130 Main Street Buffalo NY 14202 United States;X-APPLE-RADIUS=500;X-TITLE=130 Main Street:geo:-78.6122951,42.7600441
END:VEVENT
END:VCALENDAR