BEGIN:VCALENDAR
VERSION:2.0
PRODID:-//Autism Society Western New York - ECPv6.0.10//NONSGML v1.0//EN
CALSCALE:GREGORIAN
METHOD:PUBLISH
X-ORIGINAL-URL:https://autismwny.org
X-WR-CALDESC:Events for Autism Society Western New York
REFRESH-INTERVAL;VALUE=DURATION:PT1H
X-Robots-Tag:noindex
X-PUBLISHED-TTL:PT1H
BEGIN:VTIMEZONE
TZID:America/New_York
BEGIN:DAYLIGHT
TZOFFSETFROM:-0500
TZOFFSETTO:-0400
TZNAME:EDT
DTSTART:20240310T070000
END:DAYLIGHT
BEGIN:STANDARD
TZOFFSETFROM:-0400
TZOFFSETTO:-0500
TZNAME:EST
DTSTART:20241103T060000
END:STANDARD
END:VTIMEZONE
BEGIN:VEVENT
DTSTART;TZID=America/New_York:20241124T090000
DTEND;TZID=America/New_York:20241124T100000
DTSTAMP:20260422T102426
CREATED:20241110T220654Z
LAST-MODIFIED:20241110T220654Z
UID:9408-1732438800-1732442400@autismwny.org
SUMMARY:Play & Learn: November 2024 (Sensory-Friendly Pre-K Class) at Explore & More - The Ralph C. Wilson\, Jr. Children’s Museum
DESCRIPTION:Join us for a playgroup style Pre-K class for diverse little learners and their parents/caregivers. This class will meet the needs of children who benefit from a multi-sensory\, flexible learning approach\, and adapted materials. Children will have the opportunity to play in the museum at a quieter\, sensory friendly time. \nThemed child centered activities will be provided that focus on social-emotional\, pre-academic\, communication\, and motor skills. Parents will have the opportunity to connect with each other in a supportive environment. \nWe will also provide follow up activities for home and advocacy resources. \nSponsored by Person Centered Services and the Tower Foundation \nFree.  Registration Required.\n\n\nRegister Today
URL:https://autismwny.org/event/play-learn-november-2024-sensory-friendly-pre-k-class-at-explore-more-the-ralph-c-wilson-jr-childrens-museum/
LOCATION:Explore & More – The Ralph C Wilson Jr. Children’s Museum\, 130 Main Street\, Buffalo\, NY\, 14202\, United States
CATEGORIES:Sensory Friendly Event
GEO:42.7600441;-78.6122951
X-APPLE-STRUCTURED-LOCATION;VALUE=URI;X-ADDRESS=Explore & More – The Ralph C Wilson Jr. Children’s Museum 130 Main Street Buffalo NY 14202 United States;X-APPLE-RADIUS=500;X-TITLE=130 Main Street:geo:-78.6122951,42.7600441
END:VEVENT
END:VCALENDAR