BEGIN:VCALENDAR
VERSION:2.0
PRODID:-//Autism Society Western New York - ECPv6.0.10//NONSGML v1.0//EN
CALSCALE:GREGORIAN
METHOD:PUBLISH
X-WR-CALNAME:Autism Society Western New York
X-ORIGINAL-URL:https://autismwny.org
X-WR-CALDESC:Events for Autism Society Western New York
REFRESH-INTERVAL;VALUE=DURATION:PT1H
X-Robots-Tag:noindex
X-PUBLISHED-TTL:PT1H
BEGIN:VTIMEZONE
TZID:UTC
BEGIN:STANDARD
TZOFFSETFROM:+0000
TZOFFSETTO:+0000
TZNAME:UTC
DTSTART:20180101T000000
END:STANDARD
END:VTIMEZONE
BEGIN:VEVENT
DTSTART;TZID=UTC:20181013T084500
DTEND;TZID=UTC:20181013T124500
DTSTAMP:20260422T224734
CREATED:20181008T235402Z
LAST-MODIFIED:20181118T013031Z
UID:2697-1539420300-1539434700@autismwny.org
SUMMARY:Mental Health and ASD- Bridging the Gap - Sponsored by Autism Society WNY and Autism Services
DESCRIPTION:Dr. Michael Cummings MD.  will give an overview of mental health issues that co-occur with ASD.   He will discuss ADHD\, anxiety\, depression\, schizophrenia\, obsessive compulsive disorder (OCD)\, oppositional defiant disorder (ODD)  \, bipolar  and other mood disorders.    Dr. Cummings will also explore the role of commonly used psychiatric medications\, as well as their risks and benefits to the individual.   Workshop will discuss how to interface with mental health providers to maximize treatment outcomes.    Dr. Cummings will also discuss the APIC Program which provides medical and social resources to families in crisis at no charge    APIC links families and the individual in need with pivotal services including  medical and  alternative behavioral health therapies to help avoid hospitalization.    They also provide breaks for caregivers and work on improving the home environment. \nDr. Cummings is Medical Director and co-founder of APIC (Access to Psychiatry Through Intermediate Care)\, Associate Medical Director ECMC and Vice Chair of Department  of Psychiatry. UB  .  His major focus is on developing systems of care for individuals with mental illness and developmental disabilities who are at high risk of hospitalization or incarceration \nCOST:   $13 for Parent/Individual with ASD \n$39 for SLP/OT/PT (CEUs) \n$29 for OTHER Professional/Paraprofessional or Student \nDeadline for registration online Thursday at noon October 11\, 2018 \nMail in registration deadline: received by Friday October 12\, 2018 \nWalkin registration;  add $10 to above fees. \nWEBSITE:  LINK to PRINT  BROCHURE AND/OR  REGISTER ONLINE BELOW 
URL:https://autismwny.org/event/mental-health-and-asd-bridging-the-gap/
LOCATION:Classics V Banquet and Conference Center\, 2425 Niagara Falls Boulevard\, Amherst\, NY\, 14228\, United States
CATEGORIES:Autism WNY,Programs & Workshops
GEO:43.0209174;-78.821659
X-APPLE-STRUCTURED-LOCATION;VALUE=URI;X-ADDRESS=Classics V Banquet and Conference Center 2425 Niagara Falls Boulevard Amherst NY 14228 United States;X-APPLE-RADIUS=500;X-TITLE=2425 Niagara Falls Boulevard:geo:-78.821659,43.0209174
END:VEVENT
END:VCALENDAR