BEGIN:VCALENDAR
VERSION:2.0
PRODID:-//Autism Society Western New York - ECPv6.0.10//NONSGML v1.0//EN
CALSCALE:GREGORIAN
METHOD:PUBLISH
X-WR-CALNAME:Autism Society Western New York
X-ORIGINAL-URL:https://autismwny.org
X-WR-CALDESC:Events for Autism Society Western New York
REFRESH-INTERVAL;VALUE=DURATION:PT1H
X-Robots-Tag:noindex
X-PUBLISHED-TTL:PT1H
BEGIN:VTIMEZONE
TZID:UTC
BEGIN:STANDARD
TZOFFSETFROM:+0000
TZOFFSETTO:+0000
TZNAME:UTC
DTSTART:20170101T000000
END:STANDARD
END:VTIMEZONE
BEGIN:VEVENT
DTSTART;TZID=UTC:20170325T090000
DTEND;TZID=UTC:20170325T120000
DTSTAMP:20260424T040623
CREATED:20151208T002939Z
LAST-MODIFIED:20170213T070118Z
UID:512-1490432400-1490443200@autismwny.org
SUMMARY:All About Autism - A workshop for parents\, families and friends
DESCRIPTION:Parent Network of WNY Workshop \nWould you like to know more about Autism Spectrum Disorders and related community support?  Would you like helpful information and ideas from an expert?   Learn more about how individuals with ASD communicate and interact\, as well as process the information they are taking in around them.   Maximize the potential and success for individuals with ASD of all ages.   Presentation by autism experts and family members. \n\n\n\nRSVP by phone or online to reserve your spot: \n(716) 332-4170;  www.parentnetworkwny.org
URL:https://autismwny.org/event/observing-and-communicating-behaviors/
LOCATION:Parent Network of Western New York\, 1021 Broadway Street\, Floor 4\, Room 442\, Buffalo\, NY\, 14212\, United States
CATEGORIES:Programs & Workshops
GEO:42.9010102;-78.8698263
X-APPLE-STRUCTURED-LOCATION;VALUE=URI;X-ADDRESS=Parent Network of Western New York 1021 Broadway Street Floor 4 Room 442 Buffalo NY 14212 United States;X-APPLE-RADIUS=500;X-TITLE=1021 Broadway Street\, Floor 4\, Room 442:geo:-78.8698263,42.9010102
END:VEVENT
END:VCALENDAR