BEGIN:VCALENDAR
VERSION:2.0
PRODID:-//Autism Society Western New York - ECPv6.0.10//NONSGML v1.0//EN
CALSCALE:GREGORIAN
METHOD:PUBLISH
X-WR-CALNAME:Autism Society Western New York
X-ORIGINAL-URL:https://autismwny.org
X-WR-CALDESC:Events for Autism Society Western New York
REFRESH-INTERVAL;VALUE=DURATION:PT1H
X-Robots-Tag:noindex
X-PUBLISHED-TTL:PT1H
BEGIN:VTIMEZONE
TZID:UTC
BEGIN:STANDARD
TZOFFSETFROM:+0000
TZOFFSETTO:+0000
TZNAME:UTC
DTSTART:20160101T000000
END:STANDARD
END:VTIMEZONE
BEGIN:VEVENT
DTSTART;TZID=UTC:20160206T093000
DTEND;TZID=UTC:20160206T230000
DTSTAMP:20260425T061844
CREATED:20160129T213310Z
LAST-MODIFIED:20160129T213656Z
UID:606-1454751000-1454799600@autismwny.org
SUMMARY:Bring a Friend\, Make a Friend:A Social Group for Children with Autism
DESCRIPTION:Pacific Child & Family Associates\n Time: 9:30 a.m. – 11:00 p.m. \nLocation: We Rock the Spectrum\nAddress: 6950 Erie Road\nDerby\, NY 14047 \nCost: Free \nThis social skills group* will be held the first Saturday of every month for 2016 from 9:30 AM-11:00AM. \nMaking friends can be hard for children with autism. Pacific Child & Family Associates know how important it is for your child to practice their emerging social skills. That is why they are partnering with We Rock the Spectrum for this new opportunity.\nThis is a social play group designed for children ages 16 and under with autism. Pacific Child & Family Associates team of staff will be there to facilitate play and ensure a fun morning is had by all!\nPlease join us and bring a friend. \nPlease follow the link below to register the number of children in attendance. \n*Note\, this is not a drop off event. Parents and caregivers are expected to stay and are welcome to socialize. \nRSVP is required. See link below. \nLinks : Bring a Friend\, Make a Friend Registration
URL:https://autismwny.org/event/bring-a-friend-make-a-frienda-social-group-for-children-with-autism/
LOCATION:We Rock the Spectrum\, 6950 Erie Road\, Derby\, NY\, 14047\, United States
CATEGORIES:Programs & Workshops
GEO:42.698735;-78.987474
X-APPLE-STRUCTURED-LOCATION;VALUE=URI;X-ADDRESS=We Rock the Spectrum 6950 Erie Road Derby NY 14047 United States;X-APPLE-RADIUS=500;X-TITLE=6950 Erie Road:geo:-78.987474,42.698735
END:VEVENT
END:VCALENDAR