BEGIN:VCALENDAR
VERSION:2.0
PRODID:-//Autism Society Western New York - ECPv6.0.10//NONSGML v1.0//EN
CALSCALE:GREGORIAN
METHOD:PUBLISH
X-WR-CALNAME:Autism Society Western New York
X-ORIGINAL-URL:https://autismwny.org
X-WR-CALDESC:Events for Autism Society Western New York
REFRESH-INTERVAL;VALUE=DURATION:PT1H
X-Robots-Tag:noindex
X-PUBLISHED-TTL:PT1H
BEGIN:VTIMEZONE
TZID:UTC
BEGIN:STANDARD
TZOFFSETFROM:+0000
TZOFFSETTO:+0000
TZNAME:UTC
DTSTART:20160101T000000
END:STANDARD
END:VTIMEZONE
BEGIN:VEVENT
DTSTART;TZID=UTC:20160201T080000
DTEND;TZID=UTC:20160201T170000
DTSTAMP:20260425T061903
CREATED:20160129T213108Z
LAST-MODIFIED:20160129T213108Z
UID:604-1454313600-1454346000@autismwny.org
SUMMARY:MAXout Program
DESCRIPTION:Institute for Autism Research @ Canisius College\nTime: Canisius College \nLocation: Canisius College\nAddress: 2001 Main Street\nBuffalo\, NY 14208 \nCost: Free \nThe Institute for Autism Research at Canisius College is recruiting high-functioning children with autism spectrum disorder (ASD) to participate in a clinical trial evaluating an outpatient social development program. \nEligibility:\nMale and female children ages 7 -12 years\, diagnosed with ASD\nCognitive and language skills near the average range\, or in the average range or above. \nContact ASAP to be assigned to part of the February or August Program. \nFor further information: www.canisius.edu/iar \nIf interested\, please contact (716) 888-2800 or iar@canisius.edu \nDownloads : MAXout Program Flyer\nLinks : Institute for Autism Research (IAR)
URL:https://autismwny.org/event/maxout-program/
LOCATION:Canisius College\, 2001 Main Street\, Buffalo\, NY\, 14208\, United States
CATEGORIES:Programs & Workshops
GEO:42.9250304;-78.8526712
X-APPLE-STRUCTURED-LOCATION;VALUE=URI;X-ADDRESS=Canisius College 2001 Main Street Buffalo NY 14208 United States;X-APPLE-RADIUS=500;X-TITLE=2001 Main Street:geo:-78.8526712,42.9250304
END:VEVENT
END:VCALENDAR