BEGIN:VCALENDAR
VERSION:2.0
PRODID:-//Autism Society Western New York - ECPv6.0.10//NONSGML v1.0//EN
CALSCALE:GREGORIAN
METHOD:PUBLISH
X-WR-CALNAME:Autism Society Western New York
X-ORIGINAL-URL:https://autismwny.org
X-WR-CALDESC:Events for Autism Society Western New York
REFRESH-INTERVAL;VALUE=DURATION:PT1H
X-Robots-Tag:noindex
X-PUBLISHED-TTL:PT1H
BEGIN:VTIMEZONE
TZID:UTC
BEGIN:STANDARD
TZOFFSETFROM:+0000
TZOFFSETTO:+0000
TZNAME:UTC
DTSTART:20180101T000000
END:STANDARD
END:VTIMEZONE
BEGIN:VEVENT
DTSTART;TZID=UTC:20180414T084500
DTEND;TZID=UTC:20180414T124500
DTSTAMP:20260423T075421
CREATED:20180321T050211Z
LAST-MODIFIED:20180321T050917Z
UID:2625-1523695500-1523709900@autismwny.org
SUMMARY:Transition: Life After School for Individuals with ASD  ---------Rising Like the Phoenix
DESCRIPTION:Part 1:  Transition- Life After School for Individuals with ASD  – Amanda Cleesattel\, M.S.\, OTR/L will speak about the transition from school settings to career/vocational settings.   She will speak discuss supports that assist with transition including ACESS-VR  snd clinical and related supports.    She will provide a better understanding of  person centered supports and what clinicians\, teachers and families can do to not only provide support during this pivotal time but make the transition to adult life as smooth as possible. \nPart 2:  Rising Like the Phoenix  – Laura Nadine.  Laura is a musician\, self published author\, blogger  and individual with Aspergers.  .   Laura will share “10 Points to Consider” based on her own experiences as an  person with ASD\, a parent\, and as a music teacher of children and adults on the Autism Spectrum.    1) Presume competence 2) Learn the power of perseverance 3) Autism is not a static disability – Teaching should continue to evolve.    Her triumps are inspirational as is her message of empowering people with ASD  to self-advocate and make informed choices about their future. \n  \nCost:   $12 for parent/family member/ Individual with ASD \n$38 for SLP\, OT\, PT with CEUs. \n$28 for other professionals/ students. \nWalk in registrations $10 more \nMail in registration:  Autism Society WNY\, 19 Limestone Drive\, Suite 1\, Williamsville NY 14221 \nClick Website link below for more information and ON-LINE REGISTRATION
URL:https://autismwny.org/event/part-1-transition-life-after-school-for-individuals-with-asd-part-2-rising-like-the-phoenix/
LOCATION:Classics V Banquet and Conference Center\, 2425 Niagara Falls Boulevard\, Amherst\, NY\, 14228\, United States
CATEGORIES:Autism WNY,Programs & Workshops
GEO:43.0209174;-78.821659
X-APPLE-STRUCTURED-LOCATION;VALUE=URI;X-ADDRESS=Classics V Banquet and Conference Center 2425 Niagara Falls Boulevard Amherst NY 14228 United States;X-APPLE-RADIUS=500;X-TITLE=2425 Niagara Falls Boulevard:geo:-78.821659,43.0209174
END:VEVENT
END:VCALENDAR