BEGIN:VCALENDAR
VERSION:2.0
PRODID:-//Autism Society Western New York - ECPv6.0.10//NONSGML v1.0//EN
CALSCALE:GREGORIAN
METHOD:PUBLISH
X-WR-CALNAME:Autism Society Western New York
X-ORIGINAL-URL:https://autismwny.org
X-WR-CALDESC:Events for Autism Society Western New York
REFRESH-INTERVAL;VALUE=DURATION:PT1H
X-Robots-Tag:noindex
X-PUBLISHED-TTL:PT1H
BEGIN:VTIMEZONE
TZID:UTC
BEGIN:STANDARD
TZOFFSETFROM:+0000
TZOFFSETTO:+0000
TZNAME:UTC
DTSTART:20170101T000000
END:STANDARD
END:VTIMEZONE
BEGIN:VEVENT
DTSTART;TZID=UTC:20170217T100000
DTEND;TZID=UTC:20170217T120000
DTSTAMP:20260424T040614
CREATED:20160129T211720Z
LAST-MODIFIED:20170212T091436Z
UID:595-1487325600-1487332800@autismwny.org
SUMMARY:What to do About Challenging Behavior in the Home and Community
DESCRIPTION:Parent Network of WNY Workshop\nTime: 10:00 am to 12:00pm noon. \nLocation: United Way of Buffalo and Erie County (meeting in the Board Room)\nAddress: 742 Delaware Ave\nBuffalo\, NY 14209 \nCost: FREE \nParenting is a full time job with many daily challenges. As parents we teach our children what is the right thing to do and what they should not do. The purpose of this workshop is to help parents recognize the early signs of conflict and implement strategies that can manage the conflict in a proactive way and prevent the conflict from turning into a full blown storm. \nTo register: Call (716)332-4170 of 1-866-277-4762  or go online: www.parentnetworkwny.org.
URL:https://autismwny.org/event/what-to-do-about-challenging-behavior-in-the-home-and-community/
LOCATION:United Way of Buffalo and Erie County (Board Room)\, 742 Delaware Ave. \, Buffalo\, NY\, 14209\, United States
CATEGORIES:Programs & Workshops
GEO:42.8889514;-78.8464372
X-APPLE-STRUCTURED-LOCATION;VALUE=URI;X-ADDRESS=United Way of Buffalo and Erie County (Board Room) 742 Delaware Ave.  Buffalo NY 14209 United States;X-APPLE-RADIUS=500;X-TITLE=742 Delaware Ave.:geo:-78.8464372,42.8889514
END:VEVENT
END:VCALENDAR