BEGIN:VCALENDAR
VERSION:2.0
PRODID:-//Autism Society Western New York - ECPv6.0.10//NONSGML v1.0//EN
CALSCALE:GREGORIAN
METHOD:PUBLISH
X-WR-CALNAME:Autism Society Western New York
X-ORIGINAL-URL:https://autismwny.org
X-WR-CALDESC:Events for Autism Society Western New York
REFRESH-INTERVAL;VALUE=DURATION:PT1H
X-Robots-Tag:noindex
X-PUBLISHED-TTL:PT1H
BEGIN:VTIMEZONE
TZID:America/New_York
BEGIN:DAYLIGHT
TZOFFSETFROM:-0500
TZOFFSETTO:-0400
TZNAME:EDT
DTSTART:20210314T070000
END:DAYLIGHT
BEGIN:STANDARD
TZOFFSETFROM:-0400
TZOFFSETTO:-0500
TZNAME:EST
DTSTART:20211107T060000
END:STANDARD
END:VTIMEZONE
BEGIN:VEVENT
DTSTART;TZID=America/New_York:20211028T180000
DTEND;TZID=America/New_York:20211028T200000
DTSTAMP:20260422T084513
CREATED:20211012T163822Z
LAST-MODIFIED:20211012T163822Z
UID:5781-1635444000-1635451200@autismwny.org
SUMMARY:716 Teens Club
DESCRIPTION:716 Teens Club is an opportunity for young adults who enjoy games\, activities\, and hobbies to get together and have fun\, while working on social skills.  The Club is open to students with learning differences from the age of 14 – 21 yrs old.  Must be independent and respectful of others. \nMasks are required in the building\, social distancing will be used. Please bring your favorite board game or card game to share with the group. \nLocation: 1021 Broadway Street Buffalo\, NY 14212\nemail: info@parentnetworkwny.org I call: 716.332.4170 I 716-Teens-10.28.pdf (parentnetworkwny.org) \n 
URL:https://autismwny.org/event/716-teens-club/
LOCATION:Parent Network of Western New York\, 1021 Broadway\, Buffalo\, NY\, 14212\, United States
CATEGORIES:Get Togethers
GEO:42.9010451;-78.869801
X-APPLE-STRUCTURED-LOCATION;VALUE=URI;X-ADDRESS=Parent Network of Western New York 1021 Broadway Buffalo NY 14212 United States;X-APPLE-RADIUS=500;X-TITLE=1021 Broadway:geo:-78.869801,42.9010451
END:VEVENT
END:VCALENDAR