BEGIN:VCALENDAR
VERSION:2.0
PRODID:-//Autism Society Western New York - ECPv6.0.10//NONSGML v1.0//EN
CALSCALE:GREGORIAN
METHOD:PUBLISH
X-ORIGINAL-URL:https://autismwny.org
X-WR-CALDESC:Events for Autism Society Western New York
REFRESH-INTERVAL;VALUE=DURATION:PT1H
X-Robots-Tag:noindex
X-PUBLISHED-TTL:PT1H
BEGIN:VTIMEZONE
TZID:UTC
BEGIN:STANDARD
TZOFFSETFROM:+0000
TZOFFSETTO:+0000
TZNAME:UTC
DTSTART:20190101T000000
END:STANDARD
END:VTIMEZONE
BEGIN:VEVENT
DTSTART;TZID=UTC:20190107T173000
DTEND;TZID=UTC:20190107T193000
DTSTAMP:20260424T114244
CREATED:20190107T072026Z
LAST-MODIFIED:20190124T001845Z
UID:2904-1546882200-1546889400@autismwny.org
SUMMARY:Open House - Fantastic Friends of WNY - Monday Evening January 7
DESCRIPTION:Open House –   – Come learn more about the Fantastic Friends of WNY Recreation Program for individuals  of all ages with developmental disabilities \nLocation: Fantastic Friends of WNY Center\, 1284 French Road\, Depew NY \n  \n 
URL:https://autismwny.org/event/open-house-fantastic-friends-of-wny-monday-evening-january-7-from-530-to-730/
LOCATION:Fantastic Friends of WNY Center\, 1284 French Road\, Cheektowaga\, New York\, 14227\, United States
CATEGORIES:Get Togethers
GEO:42.8682176;-78.7047085
X-APPLE-STRUCTURED-LOCATION;VALUE=URI;X-ADDRESS=Fantastic Friends of WNY Center 1284 French Road Cheektowaga New York 14227 United States;X-APPLE-RADIUS=500;X-TITLE=1284 French Road:geo:-78.7047085,42.8682176
END:VEVENT
BEGIN:VEVENT
DTSTART;TZID=UTC:20190108T113000
DTEND;TZID=UTC:20190108T130000
DTSTAMP:20260424T114244
CREATED:20190107T065434Z
LAST-MODIFIED:20190124T001855Z
UID:2898-1546947000-1546952400@autismwny.org
SUMMARY:Support Group   - Daytime - Autism Society WNY and Fantastic Friends of WNY
DESCRIPTION:New Daytime Support Group for parents/caregivers of children and adults with disabilities including Autism.     Hosted by Fantastic Friends of WNY and the Autism Society of WNY .\nCome and learn more about the Fantastic Friends of WNY program which provides unique recreation opportunities for individuals of all ages with developmental disabilities. \nThere will also be handouts on Autism Resources in the WNY area and info on upcoming events in the WNY area.    Come and share and learn from other parents of children and adults with developmental disabilities including  Autism. \nRSVP   fantasticfriendswny@gmail.com \nPhone:   716-608-6234. \nHope to see you there on Tuesday !
URL:https://autismwny.org/event/support-group-autism-society-wny-and-fantastic-friends-of-wny/
LOCATION:Fantastic Friends of WNY Center\, 1284 French Road\, Cheektowaga\, New York\, 14227\, United States
CATEGORIES:Get Togethers
GEO:42.8682176;-78.7047085
X-APPLE-STRUCTURED-LOCATION;VALUE=URI;X-ADDRESS=Fantastic Friends of WNY Center 1284 French Road Cheektowaga New York 14227 United States;X-APPLE-RADIUS=500;X-TITLE=1284 French Road:geo:-78.7047085,42.8682176
END:VEVENT
END:VCALENDAR