BEGIN:VCALENDAR
VERSION:2.0
PRODID:-//Autism Society Western New York - ECPv6.0.10//NONSGML v1.0//EN
CALSCALE:GREGORIAN
METHOD:PUBLISH
X-ORIGINAL-URL:https://autismwny.org
X-WR-CALDESC:Events for Autism Society Western New York
REFRESH-INTERVAL;VALUE=DURATION:PT1H
X-Robots-Tag:noindex
X-PUBLISHED-TTL:PT1H
BEGIN:VTIMEZONE
TZID:America/New_York
BEGIN:DAYLIGHT
TZOFFSETFROM:-0500
TZOFFSETTO:-0400
TZNAME:EDT
DTSTART:20220313T070000
END:DAYLIGHT
BEGIN:STANDARD
TZOFFSETFROM:-0400
TZOFFSETTO:-0500
TZNAME:EST
DTSTART:20221106T060000
END:STANDARD
END:VTIMEZONE
BEGIN:VEVENT
DTSTART;TZID=America/New_York:20220314T130000
DTEND;TZID=America/New_York:20220314T141500
DTSTAMP:20260422T043745
CREATED:20220303T194624Z
LAST-MODIFIED:20220303T194624Z
UID:6273-1647262800-1647267300@autismwny.org
SUMMARY:What are Effective Advocacy Skills
DESCRIPTION:Please join Trish Washburn\, Education Advocate\, Parent to Parent of NYS\, as she presents a webinar on Effective Advocacy Skills. Not everyone starts out by being a good advocate. Many parents\, guardians and grandparents have faced challenges in getting their child’s education needs met. Parents\, guardians\, grandparents\, must learn the skills they need to become good advocates for their children. Participants will learn that communicating effectively with teachers and other school personnel is one of the best ways to ensure that your child’s school is creating a good learning environment for your child\, and to ensure that your child’s school is providing your child with the services or programs that he or she needs to succeed in school. \nIf you have questions\, please contact: Tina Beauparlant (518) 381-4350 or Tbeauparlant@ptopnys.org. \nRegistration: https://attendee.gotowebinar.com/register/8505411153401124366
URL:https://autismwny.org/event/what-are-effective-advocacy-skills/
CATEGORIES:Webinars
END:VEVENT
BEGIN:VEVENT
DTSTART;TZID=America/New_York:20220314T180000
DTEND;TZID=America/New_York:20220314T200000
DTSTAMP:20260422T043745
CREATED:20220112T225336Z
LAST-MODIFIED:20220112T225336Z
UID:6151-1647280800-1647288000@autismwny.org
SUMMARY:Parent's Guide to Special Education (formerly Parent Member) via Zoom
DESCRIPTION:FREE WORKSHOP \n2 Parts:   Online Training and Virtual Meeting via Zoom \nLearn about the Special Education Process and the Individualized Education Program!\n\nGain understanding about procedures\, NYS regulations\, and strategies to promote a parent’s understanding and participation in an Individualized Education Program (IEP) meeting.\nThis course is required to receive a Parent Member Certificate to support a parent of a child with a disability in an IEP meeting.\n\nPart 1 – Online videos & activities\nComplete at least 1 day prior to Live Zoom Session \nPart 2 – Live Zoom Session\nMarch 14th\n6:00 pm – 8:00 pm \nCTLE Credits Available \nRESERVE YOUR SPOT TODAY \nREGISTER:  https://parentnetworkwny.org/events/parents-guide-to-special-education-formerly-parent-member-2/ \nCall: 716-332-4170 \nEmail: info@parentnetworkwny.org
URL:https://autismwny.org/event/parents-guide-to-special-education-formerly-parent-member-via-zoom-2/
CATEGORIES:Programs & Workshops
END:VEVENT
END:VCALENDAR