BEGIN:VCALENDAR
VERSION:2.0
PRODID:-//Autism Society Western New York - ECPv6.0.10//NONSGML v1.0//EN
CALSCALE:GREGORIAN
METHOD:PUBLISH
X-WR-CALNAME:Autism Society Western New York
X-ORIGINAL-URL:https://autismwny.org
X-WR-CALDESC:Events for Autism Society Western New York
REFRESH-INTERVAL;VALUE=DURATION:PT1H
X-Robots-Tag:noindex
X-PUBLISHED-TTL:PT1H
BEGIN:VTIMEZONE
TZID:America/New_York
BEGIN:DAYLIGHT
TZOFFSETFROM:-0500
TZOFFSETTO:-0400
TZNAME:EDT
DTSTART:20220313T070000
END:DAYLIGHT
BEGIN:STANDARD
TZOFFSETFROM:-0400
TZOFFSETTO:-0500
TZNAME:EST
DTSTART:20221106T060000
END:STANDARD
END:VTIMEZONE
BEGIN:VEVENT
DTSTART;TZID=America/New_York:20220310T130000
DTEND;TZID=America/New_York:20220310T140000
DTSTAMP:20260422T043728
CREATED:20220303T193826Z
LAST-MODIFIED:20220303T193826Z
UID:6269-1646917200-1646920800@autismwny.org
SUMMARY:Education Records Organizer - Webinar
DESCRIPTION:Please join Trish Washburn\, Parent Advocate for this wonderful presentation. \nThis workshop is where parents\, guardians and advocates of children who receive 504\, CPSE and CSE special education services take their educational records and organize them into a record-keeping binder. This workshop will assist in being more organized in planning a child’s education\, and in the CPSE/CSE process. \nPlease contact with any questions: Tina Beauparlant (518) 381-4350 or Tbeauparlant@ptopnys.org \nRegistration:   https://attendee.gotowebinar.com/register/1772114097940225037
URL:https://autismwny.org/event/education-records-organizer-webinar/
CATEGORIES:Webinars
END:VEVENT
BEGIN:VEVENT
DTSTART;TZID=America/New_York:20220310T190000
DTEND;TZID=America/New_York:20220310T200000
DTSTAMP:20260422T043728
CREATED:20220112T212211Z
LAST-MODIFIED:20220112T212211Z
UID:6132-1646938800-1646942400@autismwny.org
SUMMARY:(Spanish) Chat with Us! via Zoom
DESCRIPTION:¡Únase a nosotros para obtener respuestas a sus preguntas e inquietudes!\nRESPONDEREMOS SUS PREGUNTAS SOBRE…– Transiciones– Educación Especial y Discapacidades– Manejo de tiempo en el Hogar– Trabajo Escolar– Comportamiento– Tecnología Virtual– Recursos en Buffalo– ¡Y cualquier otro tema que quieras discutir!\nUnirse a la Zoom reuniónhttps://us06web.zoom.us/j/83163589898?pwd=Qmo4TCt2M1MwMjl6QUN1MkUwRjdXUT09Reunión ID: 831 6358 9898 Contraseña: 113048 \nSesiones Semanales de Charla Con Lizarelis Ali!\nemail: info@parentnetworkwny.org | call: 716.332.4170\nwww.parentnetworkwny.org/events
URL:https://autismwny.org/event/spanish-chat-with-us-via-zoom-3/
CATEGORIES:Support Groups
END:VEVENT
BEGIN:VEVENT
DTSTART;TZID=America/New_York:20220310T190000
DTEND;TZID=America/New_York:20220310T200000
DTSTAMP:20260422T043728
CREATED:20220303T194243Z
LAST-MODIFIED:20220303T194243Z
UID:6271-1646938800-1646942400@autismwny.org
SUMMARY:Residential Placement Online Discussion Group- Parents who have a child in a Residential placement
DESCRIPTION:Do you have a family member in a residential program and are struggling to make peace with this decision? Parent to Parent is excited to host a new Parent Discussion Group facilitated by Mariela Adams\, for families with children and adults of all ages that have children in residential school or a group home. \nMarch_10-2022_Residential_Placement_Discussion_Group.docx \nRegistration:  https://us02web.zoom.us/meeting/register/tZItcOCgqjkiE93EvzhK2aXOn96j5KDcPGBy \nIf you have questions\, please contact: Valeria Colavecchio – vcolavecchio@ptopnys.org.
URL:https://autismwny.org/event/residential-placement-online-discussion-group-parents-who-have-a-child-in-a-residential-placement/
CATEGORIES:Support Groups
END:VEVENT
END:VCALENDAR