BEGIN:VCALENDAR
VERSION:2.0
PRODID:-//Autism Society Western New York - ECPv6.0.10//NONSGML v1.0//EN
CALSCALE:GREGORIAN
METHOD:PUBLISH
X-ORIGINAL-URL:https://autismwny.org
X-WR-CALDESC:Events for Autism Society Western New York
REFRESH-INTERVAL;VALUE=DURATION:PT1H
X-Robots-Tag:noindex
X-PUBLISHED-TTL:PT1H
BEGIN:VTIMEZONE
TZID:UTC
BEGIN:STANDARD
TZOFFSETFROM:+0000
TZOFFSETTO:+0000
TZNAME:UTC
DTSTART:20190101T000000
END:STANDARD
END:VTIMEZONE
BEGIN:VEVENT
DTSTART;TZID=UTC:20190304T183000
DTEND;TZID=UTC:20190304T203000
DTSTAMP:20260422T150126
CREATED:20190108T083837Z
LAST-MODIFIED:20190108T083837Z
UID:2923-1551724200-1551731400@autismwny.org
SUMMARY:Niagara County Support Group
DESCRIPTION:First Monday of almost every month \nFacilitated meeting where parents and caregivers of all ages can meet \, share experiences\, ask questions and receive support \nReservations not necessary unless you need child care \nIf child care needed\, reserve at least one week in advance at www.parentnetworkwny.org or call 716-332-4170 or email info@parentnetworkwny.org \nEach child must be registered. \nIf you have transportation or other issues\, that would limit your attendance\, please contact us.
URL:https://autismwny.org/event/niagara-county-support-group/
LOCATION:Empower Children’s Academy\, 9812 Lockport Road\, Niagara Falls\, NY\, 14304
GEO:43.121847;-78.949671
X-APPLE-STRUCTURED-LOCATION;VALUE=URI;X-ADDRESS=Empower Children’s Academy 9812 Lockport Road Niagara Falls NY 14304;X-APPLE-RADIUS=500;X-TITLE=9812 Lockport Road:geo:-78.949671,43.121847
END:VEVENT
END:VCALENDAR