BEGIN:VCALENDAR
VERSION:2.0
PRODID:-//Autism Society Western New York - ECPv6.0.10//NONSGML v1.0//EN
CALSCALE:GREGORIAN
METHOD:PUBLISH
X-ORIGINAL-URL:https://autismwny.org
X-WR-CALDESC:Events for Autism Society Western New York
REFRESH-INTERVAL;VALUE=DURATION:PT1H
X-Robots-Tag:noindex
X-PUBLISHED-TTL:PT1H
BEGIN:VTIMEZONE
TZID:UTC
BEGIN:STANDARD
TZOFFSETFROM:+0000
TZOFFSETTO:+0000
TZNAME:UTC
DTSTART:20190101T000000
END:STANDARD
END:VTIMEZONE
BEGIN:VEVENT
DTSTART;TZID=UTC:20190115T183000
DTEND;TZID=UTC:20190115T200000
DTSTAMP:20260422T180046
CREATED:20181222T233510Z
LAST-MODIFIED:20190124T001912Z
UID:2886-1547577000-1547582400@autismwny.org
SUMMARY:Rec Fest  2019 - Daemon College -Wick Social Hall - January 15
DESCRIPTION:“Join us on January 15th at Daemen College to learn more about Buffalo area sport and recreation programs available for individuals with disabilities.  All are welcome-participants\, family\, friends\, caretakers\, service providers!”  Sponsored by Parent Network of WNY and Daemon College Center for Allied and Unified Sport and Exercise.
URL:https://autismwny.org/event/rec-fest-2019/
LOCATION:Daemen College 4380 Main Street Amherst\, NY 14226\, 4380 Main Street\, Amherst\, NY\, 14226\, United States
CATEGORIES:Other Events in WNY
GEO:42.9650703;-78.7897573
X-APPLE-STRUCTURED-LOCATION;VALUE=URI;X-ADDRESS=Daemen College 4380 Main Street Amherst NY 14226 4380 Main Street Amherst NY 14226 United States;X-APPLE-RADIUS=500;X-TITLE=4380 Main Street:geo:-78.7897573,42.9650703
END:VEVENT
END:VCALENDAR